BEGIN:VCALENDAR
VERSION:2.0
PRODID:-//ChamberMaster//Event Calendar 2.0//EN
METHOD:PUBLISH
X-PUBLISHED-TTL:P3D
REFRESH-INTERVAL:P3D
CALSCALE:GREGORIAN
BEGIN:VEVENT
DTSTART;VALUE=DATE:20160321
DTEND;VALUE=DATE:20160322
TRANSP:TRANSPARENT
X-MICROSOFT-CDO-ALLDAYEVENT:TRUE
SUMMARY:Streator Chamber Annual Meeting - March 21\, 2016
DESCRIPTION:
X-ALT-DESC;FMTTYPE=text/html:
LOCATION:
UID:e.36.382
SEQUENCE:3
DTSTAMP:20260424T225147Z
URL:https://business.streatorchamber.com/events/details/streator-chamber-annual-meeting-march-21-2016-382
END:VEVENT

END:VCALENDAR
