BEGIN:VCALENDAR
VERSION:2.0
PRODID:-//ChamberMaster//Event Calendar 2.0//EN
METHOD:PUBLISH
X-PUBLISHED-TTL:P3D
REFRESH-INTERVAL:P3D
CALSCALE:GREGORIAN
BEGIN:VEVENT
DTSTART;VALUE=DATE:20190318
DTEND;VALUE=DATE:20190319
TRANSP:TRANSPARENT
X-MICROSOFT-CDO-ALLDAYEVENT:TRUE
SUMMARY:Streator Chamber Annual Meeting - March 18\, 2019
DESCRIPTION:
X-ALT-DESC;FMTTYPE=text/html:
LOCATION:
UID:e.36.1413
SEQUENCE:3
DTSTAMP:20260422T165955Z
URL:https://business.streatorchamber.com/events/details/streator-chamber-annual-meeting-march-18-2019-1413
END:VEVENT

END:VCALENDAR
