BEGIN:VCALENDAR
VERSION:2.0
PRODID:-//ChamberMaster//Event Calendar 2.0//EN
METHOD:PUBLISH
X-PUBLISHED-TTL:P3D
REFRESH-INTERVAL:P3D
CALSCALE:GREGORIAN
BEGIN:VEVENT
DTSTART:20180810T163000Z
DTEND:20180810T210000Z
X-MICROSOFT-CDO-ALLDAYEVENT:FALSE
SUMMARY:Streator Chamber Annual Golf Outing - August 10\, 2018
DESCRIPTION:Annual Chamber Golf Outing
X-ALT-DESC;FMTTYPE=text/html:Annual Chamber Golf Outing
LOCATION:Eastwood Golf Course
UID:e.36.1408
SEQUENCE:3
DTSTAMP:20260423T040455Z
URL:https://business.streatorchamber.com/events/details/streator-chamber-annual-golf-outing-august-10-2018-1408
END:VEVENT

END:VCALENDAR
